BEGIN:VCALENDAR
VERSION:2.0
PRODID:-//City of Dadeville Alabama - ECPv6.15.20//NONSGML v1.0//EN
CALSCALE:GREGORIAN
METHOD:PUBLISH
X-WR-CALNAME:City of Dadeville Alabama
X-ORIGINAL-URL:https://cityofdadevilleal.org
X-WR-CALDESC:Events for City of Dadeville Alabama
REFRESH-INTERVAL;VALUE=DURATION:PT1H
X-Robots-Tag:noindex
X-PUBLISHED-TTL:PT1H
BEGIN:VTIMEZONE
TZID:UTC
BEGIN:STANDARD
TZOFFSETFROM:+0000
TZOFFSETTO:+0000
TZNAME:UTC
DTSTART:20180101T000000
END:STANDARD
END:VTIMEZONE
BEGIN:VEVENT
DTSTART;TZID=UTC:20190323T090000
DTEND;TZID=UTC:20190323T160000
DTSTAMP:20260422T172216
CREATED:20190319T183129Z
LAST-MODIFIED:20190319T183916Z
UID:601-1553331600-1553356800@cityofdadevilleal.org
SUMMARY:Horseshoe Bend National Military Park 205th Anniversary
DESCRIPTION:Saturday’s activities will provide park visitors to learn more about Southeastern American Indian life in this area more than 200 years ago\, as well as provide insight into the lives of the combatants and the reasons why the battle occurred. \nExperience the life of the Creek and Cherokee Indians by visiting traditional hunting camps and watch demonstrations of cultural skills such as hide tanning\, cooking and finger weaving. Children will have the opportunity to participate in an authentic Creek stickball game throughout the day. \nExperience the life of Andrew Jackson’s frontier army. Watch Tennessee militia fire smoothbore cannon and flintlock muskets. A camp depicting American women’s lives on the frontier will provide wool dying demonstrations and teach visitors how to spin the wool. \nAll demonstrations will be presented multiple times throughout the day and promise to be entertaining as well as educational. A refreshment stand will be available benefiting the New Site Volunteer Fire Department.
URL:https://cityofdadevilleal.org/event/horseshoe-bend-national-military-park-205th-anniversary/
LOCATION:Horseshoe Bend National Military Park\, 11288 Horseshoe Bend Road\, Daviston\, AL\, 36256
END:VEVENT
END:VCALENDAR