BEGIN:VCALENDAR
VERSION:2.0
PRODID:-//City of Dadeville Alabama - ECPv6.15.20//NONSGML v1.0//EN
CALSCALE:GREGORIAN
METHOD:PUBLISH
X-WR-CALNAME:City of Dadeville Alabama
X-ORIGINAL-URL:https://cityofdadevilleal.org
X-WR-CALDESC:Events for City of Dadeville Alabama
REFRESH-INTERVAL;VALUE=DURATION:PT1H
X-Robots-Tag:noindex
X-PUBLISHED-TTL:PT1H
BEGIN:VTIMEZONE
TZID:America/Chicago
BEGIN:DAYLIGHT
TZOFFSETFROM:-0600
TZOFFSETTO:-0500
TZNAME:CDT
DTSTART:20250309T080000
END:DAYLIGHT
BEGIN:STANDARD
TZOFFSETFROM:-0500
TZOFFSETTO:-0600
TZNAME:CST
DTSTART:20251102T070000
END:STANDARD
BEGIN:DAYLIGHT
TZOFFSETFROM:-0600
TZOFFSETTO:-0500
TZNAME:CDT
DTSTART:20260308T080000
END:DAYLIGHT
BEGIN:STANDARD
TZOFFSETFROM:-0500
TZOFFSETTO:-0600
TZNAME:CST
DTSTART:20261101T070000
END:STANDARD
BEGIN:DAYLIGHT
TZOFFSETFROM:-0600
TZOFFSETTO:-0500
TZNAME:CDT
DTSTART:20270314T080000
END:DAYLIGHT
BEGIN:STANDARD
TZOFFSETFROM:-0500
TZOFFSETTO:-0600
TZNAME:CST
DTSTART:20271107T070000
END:STANDARD
END:VTIMEZONE
BEGIN:VTIMEZONE
TZID:UTC
BEGIN:STANDARD
TZOFFSETFROM:+0000
TZOFFSETTO:+0000
TZNAME:UTC
DTSTART:20250101T000000
END:STANDARD
END:VTIMEZONE
BEGIN:VEVENT
DTSTART;TZID=America/Chicago:20260602T110000
DTEND;TZID=America/Chicago:20260602T120000
DTSTAMP:20260422T052625
CREATED:20260326T012614Z
LAST-MODIFIED:20260326T012825Z
UID:6111-1780398000-1780401600@cityofdadevilleal.org
SUMMARY:2026 Summer Reading Program — Unearth a Story
DESCRIPTION:
URL:https://cityofdadevilleal.org/event/2026-summer-reading-program-unearth-a-story/
ATTACH;FMTTYPE=image/jpeg:https://cityofdadevilleal.org/wp-content/uploads/2026/03/Screenshot-2026-03-25-201855.jpg
END:VEVENT
BEGIN:VEVENT
DTSTART;TZID=UTC:20260602T173000
DTEND;TZID=UTC:20260602T173000
DTSTAMP:20260422T052625
CREATED:20251118T211408Z
LAST-MODIFIED:20251118T213641Z
UID:5641-1780421400-1780421400@cityofdadevilleal.org
SUMMARY:City of Dadeville Planning and Zoning Commission Board Meeting
DESCRIPTION:
URL:https://cityofdadevilleal.org/event/planning-and-zoning-committee-meeting-6/
LOCATION:Dadeville City Hall\, 265 N Broadnax St\, Dadeville\, AL\, 36853\, United States
END:VEVENT
END:VCALENDAR