BEGIN:VCALENDAR
VERSION:2.0
PRODID:-//City of Dadeville Alabama - ECPv6.15.20//NONSGML v1.0//EN
CALSCALE:GREGORIAN
METHOD:PUBLISH
X-WR-CALNAME:City of Dadeville Alabama
X-ORIGINAL-URL:https://cityofdadevilleal.org
X-WR-CALDESC:Events for City of Dadeville Alabama
REFRESH-INTERVAL;VALUE=DURATION:PT1H
X-Robots-Tag:noindex
X-PUBLISHED-TTL:PT1H
BEGIN:VTIMEZONE
TZID:America/Chicago
BEGIN:DAYLIGHT
TZOFFSETFROM:-0600
TZOFFSETTO:-0500
TZNAME:CDT
DTSTART:20250309T080000
END:DAYLIGHT
BEGIN:STANDARD
TZOFFSETFROM:-0500
TZOFFSETTO:-0600
TZNAME:CST
DTSTART:20251102T070000
END:STANDARD
BEGIN:DAYLIGHT
TZOFFSETFROM:-0600
TZOFFSETTO:-0500
TZNAME:CDT
DTSTART:20260308T080000
END:DAYLIGHT
BEGIN:STANDARD
TZOFFSETFROM:-0500
TZOFFSETTO:-0600
TZNAME:CST
DTSTART:20261101T070000
END:STANDARD
BEGIN:DAYLIGHT
TZOFFSETFROM:-0600
TZOFFSETTO:-0500
TZNAME:CDT
DTSTART:20270314T080000
END:DAYLIGHT
BEGIN:STANDARD
TZOFFSETFROM:-0500
TZOFFSETTO:-0600
TZNAME:CST
DTSTART:20271107T070000
END:STANDARD
END:VTIMEZONE
BEGIN:VEVENT
DTSTART;TZID=America/Chicago:20260415T143000
DTEND;TZID=America/Chicago:20260415T163000
DTSTAMP:20260422T035636
CREATED:20260313T005139Z
LAST-MODIFIED:20260313T005139Z
UID:6101-1776263400-1776270600@cityofdadevilleal.org
SUMMARY:NATIVE FLUTE MAKING
DESCRIPTION:AFA-AU Traditional Artist-in-Residence \nJoin us for a FREE hands-on workshop in \nNATIVE FLUTE MAKING \nled by Alabama artist CHARLIE MATO-TOYELA \nAPRIL 15\, 2026 2:30 – 4:30PM \nDadeville Public Library 205 N West St. \nREGISTRATION REQUIRED: 256-825-7820 \nAlabama Folklife Association | Auburn University — Caroline Marshall Draughon Center for the Arts & Humanities
URL:https://cityofdadevilleal.org/event/native-flute-making/
LOCATION:Dadeville Public Library
ATTACH;FMTTYPE=application/pdf:https://cityofdadevilleal.org/wp-content/uploads/2026/03/library-2-1.pdf
END:VEVENT
END:VCALENDAR